BEGIN:VCALENDAR
VERSION:2.0
PRODID:-//Squarespace Inc/Squarespace 6//v6//EN
BEGIN:VEVENT
UID:6017411b31367d7eb9c5c193@squarespace.com
DTSTAMP:20210223T012137Z
DTSTART:20210301T070000Z
DTEND:20210301T083000Z
SUMMARY:FREE: Intro to Growth Hacking
END:VEVENT
END:VCALENDAR
